BEGIN:VCALENDAR
VERSION:2.0
PRODID:-//Child Advocacy Center of Sedgwick County - ECPv6.15.20//NONSGML v1.0//EN
CALSCALE:GREGORIAN
METHOD:PUBLISH
X-ORIGINAL-URL:https://cacsckansas.org
X-WR-CALDESC:Events for Child Advocacy Center of Sedgwick County
REFRESH-INTERVAL;VALUE=DURATION:PT1H
X-Robots-Tag:noindex
X-PUBLISHED-TTL:PT1H
BEGIN:VTIMEZONE
TZID:America/Chicago
BEGIN:DAYLIGHT
TZOFFSETFROM:-0600
TZOFFSETTO:-0500
TZNAME:CDT
DTSTART:20250309T080000
END:DAYLIGHT
BEGIN:STANDARD
TZOFFSETFROM:-0500
TZOFFSETTO:-0600
TZNAME:CST
DTSTART:20251102T070000
END:STANDARD
BEGIN:DAYLIGHT
TZOFFSETFROM:-0600
TZOFFSETTO:-0500
TZNAME:CDT
DTSTART:20260308T080000
END:DAYLIGHT
BEGIN:STANDARD
TZOFFSETFROM:-0500
TZOFFSETTO:-0600
TZNAME:CST
DTSTART:20261101T070000
END:STANDARD
BEGIN:DAYLIGHT
TZOFFSETFROM:-0600
TZOFFSETTO:-0500
TZNAME:CDT
DTSTART:20270314T080000
END:DAYLIGHT
BEGIN:STANDARD
TZOFFSETFROM:-0500
TZOFFSETTO:-0600
TZNAME:CST
DTSTART:20271107T070000
END:STANDARD
END:VTIMEZONE
BEGIN:VEVENT
DTSTART;TZID=America/Chicago:20260618T150000
DTEND;TZID=America/Chicago:20260618T170000
DTSTAMP:20260423T092028
CREATED:20260311T145658Z
LAST-MODIFIED:20260311T145658Z
UID:10417-1781794800-1781802000@cacsckansas.org
SUMMARY:Internet Safety
DESCRIPTION:Parents\, caregivers and educators remain the first line of defense in protecting children against the potential dangers lurking online.  This presentation is designed to educate\, equip and empower adults with the knowledge and resources needed to help protect children from online dangers including predators\, cyber bullies and threats related to gaming\, social networking and mobile devices. Information will be provided from NetSmartz & ConnectSafely. \nCEUs: This training is approved by KDHE for child care licensing hours. BSRB approved. \nSign up here: https://us02web.zoom.us/meeting/register/LUvYO2DyQEqDC-BR7N315Q
URL:https://cacsckansas.org/event/internet-safety-9/
LOCATION:zoom
END:VEVENT
BEGIN:VEVENT
DTSTART;TZID=America/Chicago:20260623T130000
DTEND;TZID=America/Chicago:20260623T150000
DTSTAMP:20260423T092028
CREATED:20260311T145018Z
LAST-MODIFIED:20260311T145018Z
UID:10401-1782219600-1782226800@cacsckansas.org
SUMMARY:ACES and Resilience
DESCRIPTION:Extremely stressful experiences in childhood can alter brain development and have lifelong effects on health and behavior. This one-hour documentary\, “Resilience: The Biology of Stress & The Science of Hope” examines into the science of ACEs (Adverse Childhood Experiences) and the birth of a new movement to treat and prevent Toxic Stress. The film is followed by a facilitated discussion to enhance understanding of childhood trauma. \nCEUs: This training is approved by KDHE for 2 child care licensing hours. BSRB approved. \nTarget Audience: Parents\, foster parents and other adults\, especially those that coach\, counsel\, or otherwise work with children or provide youth-based services. This includes but is not limited to educators\, medical staff\, law enforcement\, victim advocates\, therapists\, childcare providers\, youth sports personnel and youth group leaders. \nSign up here: https://us02web.zoom.us/meeting/register/Fgz8wmEGRJCqm84fHD3FvA
URL:https://cacsckansas.org/event/aces-and-resilience-2/
LOCATION:zoom
END:VEVENT
BEGIN:VEVENT
DTSTART;TZID=America/Chicago:20260625T150000
DTEND;TZID=America/Chicago:20260625T170000
DTSTAMP:20260423T092028
CREATED:20260311T150303Z
LAST-MODIFIED:20260311T150303Z
UID:10435-1782399600-1782406800@cacsckansas.org
SUMMARY:Creating Resilience
DESCRIPTION:Resilience is often thought of as the ability to bounce back from a tough time. In this training we’re going to look at resilience as bouncing forward. Parents frequently model resilience for their children. Our actions – no matter how small – can have a big impact on our children and ultimately\, on our communities. This training will discuss our responses to stress\, the impacts stress can have\, and ways we can promote positive childhood experiences and create resilience through connection \nCEUs: This training is approved by KDHE for child care licensing hours. BSRB approved. \nSign up here: https://us02web.zoom.us/meeting/register/qa-BYrMSQl2t0I6gHTAA6A
URL:https://cacsckansas.org/event/creating-resilience-9/
END:VEVENT
END:VCALENDAR