BEGIN:VCALENDAR
VERSION:2.0
PRODID:-//Child Advocacy Center of Sedgwick County - ECPv6.15.20//NONSGML v1.0//EN
CALSCALE:GREGORIAN
METHOD:PUBLISH
X-WR-CALNAME:Child Advocacy Center of Sedgwick County
X-ORIGINAL-URL:https://cacsckansas.org
X-WR-CALDESC:Events for Child Advocacy Center of Sedgwick County
REFRESH-INTERVAL;VALUE=DURATION:PT1H
X-Robots-Tag:noindex
X-PUBLISHED-TTL:PT1H
BEGIN:VTIMEZONE
TZID:America/Chicago
BEGIN:DAYLIGHT
TZOFFSETFROM:-0600
TZOFFSETTO:-0500
TZNAME:CDT
DTSTART:20250309T080000
END:DAYLIGHT
BEGIN:STANDARD
TZOFFSETFROM:-0500
TZOFFSETTO:-0600
TZNAME:CST
DTSTART:20251102T070000
END:STANDARD
BEGIN:DAYLIGHT
TZOFFSETFROM:-0600
TZOFFSETTO:-0500
TZNAME:CDT
DTSTART:20260308T080000
END:DAYLIGHT
BEGIN:STANDARD
TZOFFSETFROM:-0500
TZOFFSETTO:-0600
TZNAME:CST
DTSTART:20261101T070000
END:STANDARD
BEGIN:DAYLIGHT
TZOFFSETFROM:-0600
TZOFFSETTO:-0500
TZNAME:CDT
DTSTART:20270314T080000
END:DAYLIGHT
BEGIN:STANDARD
TZOFFSETFROM:-0500
TZOFFSETTO:-0600
TZNAME:CST
DTSTART:20271107T070000
END:STANDARD
END:VTIMEZONE
BEGIN:VEVENT
DTSTART;VALUE=DATE:20260401
DTEND;VALUE=DATE:20260416
DTSTAMP:20260421T082105
CREATED:20250516T140228Z
LAST-MODIFIED:20250516T140228Z
UID:8713-1775001600-1776297599@cacsckansas.org
SUMMARY:Chicken N Pickle Cup Campaign
DESCRIPTION:Come out and support the Child Advocacy Center of Sedgwick County at Chicken N Pickle this month!! April 1st-15th 2026 a portion of the proceeds from every beverage purchased are given back to the CACSC!! Play some pickleball and do some good for your community!
URL:https://cacsckansas.org/event/chicken-n-pickle-cup-campaign/
LOCATION:Chicken N Pickle\, 1240 N Greenwich Rd\, Wichita\, KS\, 67206\, United States
END:VEVENT
BEGIN:VEVENT
DTSTART;TZID=America/Chicago:20260416T100000
DTEND;TZID=America/Chicago:20260416T120000
DTSTAMP:20260421T082105
CREATED:20260311T145507Z
LAST-MODIFIED:20260311T145507Z
UID:10411-1776333600-1776340800@cacsckansas.org
SUMMARY:Internet Safety
DESCRIPTION:Parents\, caregivers and educators remain the first line of defense in protecting children against the potential dangers lurking online.  This presentation is designed to educate\, equip and empower adults with the knowledge and resources needed to help protect children from online dangers including predators\, cyber bullies and threats related to gaming\, social networking and mobile devices. Information will be provided from NetSmartz & ConnectSafely. \nCEUs: This training is approved by KDHE for child care licensing hours. BSRB approved. \nSign up here: https://us02web.zoom.us/meeting/register/wZVnNMalTl28fpuWcbSIxg
URL:https://cacsckansas.org/event/internet-safety-7/
LOCATION:zoom
END:VEVENT
BEGIN:VEVENT
DTSTART;TZID=America/Chicago:20260416T130000
DTEND;TZID=America/Chicago:20260416T150000
DTSTAMP:20260421T082105
CREATED:20260311T145128Z
LAST-MODIFIED:20260324T143008Z
UID:10403-1776344400-1776351600@cacsckansas.org
SUMMARY:Connections Matter
DESCRIPTION:Every day connections are more important than we ever believed. Science tells us that relationships have the power to shape our brains. Relationships help us learn better\, work better\, parent better. When we experience tough times\, relationships help us heal. With each connection\, we develop a healthier\, stronger community. Connections Matter is a training designed to engage community members in building caring connections to improve resiliency\, prevent childhood trauma\, and understand how our interactions with others can support those who have experienced trauma. Connections Matter explores how the connections we make in life profoundly impact our brain’s ability to grow and our own abilities to cope and thrive. This is done through a training curriculum that educates participants on adverse childhood experiences\, trauma\, brain development and resilience. Connections Matter ultimately strives to promote the building of more resilient\, compassionate\, and trauma-informed communities – thus allowing all children and individuals to succeed. This training is pre-approved for 2.0 KDHE child care licensing hours. \nCEUs: This training is approved by KDHE for child care licensing hours. BSRB approved. \nSign up here: https://us02web.zoom.us/meeting/register/wrl_DAKYSbOQfVewOE_EKA
URL:https://cacsckansas.org/event/connections-matter-19/
LOCATION:zoom
END:VEVENT
BEGIN:VEVENT
DTSTART;TZID=America/Chicago:20260422T130000
DTEND;TZID=America/Chicago:20260422T150000
DTSTAMP:20260421T082105
CREATED:20260311T145808Z
LAST-MODIFIED:20260311T145808Z
UID:10420-1776862800-1776870000@cacsckansas.org
SUMMARY:Darkness to Light Stewards of Children
DESCRIPTION:Stewards of Children® is an evidence-based prevention training that teaches adults how to prevent\, recognize\, and react responsibly to child sexual abuse. We know that when adults are informed\, they take steps to protect children from sexual abuse. During the award-winning Steward of Children prevention training\, you will hear from survivors who lived through child sexual abuse\, experienced its immediate and long-term effects\, and ultimately were able to find healing. You will hear from experts who work with children and families and confront abuse on a daily basis. Lastly\, you will find concrete steps that you can take to protect the children in your life.  Stewards of Children is the flagship prevention program by Darkness to Light (D2L). \nCEUs: Approved nationally/KDHE Childcare Licensing approved hours. BSRB approved. \nTarget Audience: Parents\, youth-serving organizations and educators that wish to train staff and volunteers in child sexual abuse prevention and/or enhance child protection policies and procedures\, anyone who wants to make a difference in their community by educating adults about the protection of children. \nSign up here: https://us02web.zoom.us/meeting/register/lL7zHPnPQsWFI9FtcfiCqg
URL:https://cacsckansas.org/event/darkness-to-light-stewards-of-children-14/
LOCATION:zoom
END:VEVENT
BEGIN:VEVENT
DTSTART;TZID=America/Chicago:20260428T130000
DTEND;TZID=America/Chicago:20260428T150000
DTSTAMP:20260421T082105
CREATED:20260311T150127Z
LAST-MODIFIED:20260311T150127Z
UID:10429-1777381200-1777388400@cacsckansas.org
SUMMARY:Creating Resilience
DESCRIPTION:Resilience is often thought of as the ability to bounce back from a tough time. In this training we’re going to look at resilience as bouncing forward. Parents frequently model resilience for their children. Our actions – no matter how small – can have a big impact on our children and ultimately\, on our communities. This training will discuss our responses to stress\, the impacts stress can have\, and ways we can promote positive childhood experiences and create resilience through connection \nCEUs: This training is approved by KDHE for child care licensing hours. BSRB approved. \nSign up here: https://us02web.zoom.us/meeting/register/llPQkQKwRzmPGrxA9HXhCg
URL:https://cacsckansas.org/event/creating-resilience-7/
LOCATION:zoom
END:VEVENT
BEGIN:VEVENT
DTSTART;TZID=America/Chicago:20260429T140000
DTEND;TZID=America/Chicago:20260429T150000
DTSTAMP:20260421T082105
CREATED:20260311T150407Z
LAST-MODIFIED:20260311T150407Z
UID:10438-1777471200-1777474800@cacsckansas.org
SUMMARY:Talking With Children About Safety From Sexual Abuse
DESCRIPTION:Talking about personal safety and sex creates a protective bond between parent and child\, increases confidence for both\, and instills knowledge that makes children and teens much less vulnerable. Building on the education provided in Stewards of Children®\, Darkness to Light’s evidence-informed training on preventing\, recognizing\, and reacting responsibly to child sexual abuse\, you will learn how to talk with and listen to children about sexual abuse and personal safety. It is highly recommended that participants complete Stewards of Children® prior to taking the course. \nSign up here: https://us02web.zoom.us/meeting/register/zFnW-xi-RgyS07K6JOm0pg
URL:https://cacsckansas.org/event/talking-with-children-about-safety-from-sexual-abuse-13/
LOCATION:KS
END:VEVENT
BEGIN:VEVENT
DTSTART;TZID=America/Chicago:20260430T180000
DTEND;TZID=America/Chicago:20260430T200000
DTSTAMP:20260421T082105
CREATED:20260311T150715Z
LAST-MODIFIED:20260312T140414Z
UID:10447-1777572000-1777579200@cacsckansas.org
SUMMARY:(Español) Darkness to Light-Guardianes de los Niños
DESCRIPTION:Con el sueño de un mundo donde los niños puedan crecer felices\, sanos y a salvo\, Darkness to Light se compromete a facultar a las personas para prevenir el abuso sexual de menores. Creemos que la protección de los niños es responsabilidad de los adultos y que gracias a la educación y la capacitación\, estarán facultados para actuar. \nCEUs: Aprobado a nivel nacional/KDHE Aprobado Licencias de Cuidado Infantil \nPublico que se beneficia: Padres\, miembros de la comunidad y cualquier persona que trabaja con niños. \nhttps://us02web.zoom.us/meeting/register/ri3auvkhRtubvP6C0fqpkw
URL:https://cacsckansas.org/event/espanol-darkness-to-light-guardianes-de-los-ninos/
LOCATION:zoom
END:VEVENT
BEGIN:VEVENT
DTSTART;TZID=America/Chicago:20260504T100000
DTEND;TZID=America/Chicago:20260504T170000
DTSTAMP:20260421T082105
CREATED:20260407T215836Z
LAST-MODIFIED:20260407T215836Z
UID:10629-1777888800-1777914000@cacsckansas.org
SUMMARY:15th Annual Changing a Child's Life Golf Tournament
DESCRIPTION:The 15th Annual Changing a Child’s Life Golf Tournament tees off on May 4th at Terradyne Country Club! \nWe’re so excited to bring our community together for a meaningful day on the course in support of the Child Advocacy Center of Sedgwick County- and to celebrate 15 years of changing children’s lives through this incredible event. \nInterested in sponsoring this milestone tournament? Email astalcup@cacsckansas.org to learn more and get involved Tickets are on sale now! Use the link below to purchase yours today! \nChanging A Child’s Life Golf Tournament – Campaign \n 
URL:https://cacsckansas.org/event/15th-annual-changing-a-childs-life-golf-tournament/
LOCATION:Terradyne Country Club\, 1400 Terradyne Dr\, Andover\, KS\, 67002\, United States
END:VEVENT
BEGIN:VEVENT
DTSTART;TZID=America/Chicago:20260506T130000
DTEND;TZID=America/Chicago:20260506T150000
DTSTAMP:20260421T082105
CREATED:20260311T145602Z
LAST-MODIFIED:20260311T145602Z
UID:10414-1778072400-1778079600@cacsckansas.org
SUMMARY:Internet Safety
DESCRIPTION:Parents\, caregivers and educators remain the first line of defense in protecting children against the potential dangers lurking online.  This presentation is designed to educate\, equip and empower adults with the knowledge and resources needed to help protect children from online dangers including predators\, cyber bullies and threats related to gaming\, social networking and mobile devices. Information will be provided from NetSmartz & ConnectSafely. \nCEUs: This training is approved by KDHE for child care licensing hours. BSRB approved. \nSign up here: https://us02web.zoom.us/meeting/register/nR0JOSTFQZ2Ps2ylZn1B5g
URL:https://cacsckansas.org/event/internet-safety-8/
LOCATION:zoom
END:VEVENT
BEGIN:VEVENT
DTSTART;TZID=America/Chicago:20260507T110000
DTEND;TZID=America/Chicago:20260507T120000
DTSTAMP:20260421T082105
CREATED:20260311T150506Z
LAST-MODIFIED:20260311T150506Z
UID:10441-1778151600-1778155200@cacsckansas.org
SUMMARY:Talking With Children About Safety From Sexual Abuse
DESCRIPTION:Talking about personal safety and sex creates a protective bond between parent and child\, increases confidence for both\, and instills knowledge that makes children and teens much less vulnerable. Building on the education provided in Stewards of Children®\, Darkness to Light’s evidence-informed training on preventing\, recognizing\, and reacting responsibly to child sexual abuse\, you will learn how to talk with and listen to children about sexual abuse and personal safety. It is highly recommended that participants complete Stewards of Children® prior to taking the course. \nSign up here: https://us02web.zoom.us/meeting/register/uNbVxfTgSeOIVnwvf7mToQ
URL:https://cacsckansas.org/event/talking-with-children-about-safety-from-sexual-abuse-14/
LOCATION:zoom
END:VEVENT
BEGIN:VEVENT
DTSTART;TZID=America/Chicago:20260512T150000
DTEND;TZID=America/Chicago:20260512T170000
DTSTAMP:20260421T082105
CREATED:20260311T144923Z
LAST-MODIFIED:20260311T144923Z
UID:10398-1778598000-1778605200@cacsckansas.org
SUMMARY:ACES and Resilience
DESCRIPTION:Extremely stressful experiences in childhood can alter brain development and have lifelong effects on health and behavior. This one-hour documentary\, “Resilience: The Biology of Stress & The Science of Hope” examines into the science of ACEs (Adverse Childhood Experiences) and the birth of a new movement to treat and prevent Toxic Stress. The film is followed by a facilitated discussion to enhance understanding of childhood trauma. \nCEUs: This training is approved by KDHE for 2 child care licensing hours. BSRB approved. \nTarget Audience: Parents\, foster parents and other adults\, especially those that coach\, counsel\, or otherwise work with children or provide youth-based services. This includes but is not limited to educators\, medical staff\, law enforcement\, victim advocates\, therapists\, childcare providers\, youth sports personnel and youth group leaders. \nSign Up Here: https://us02web.zoom.us/meeting/register/0qpyipj1SxS24bUFC9e3og
URL:https://cacsckansas.org/event/aces-and-resilience/
LOCATION:zoom
END:VEVENT
BEGIN:VEVENT
DTSTART;TZID=America/Chicago:20260514T100000
DTEND;TZID=America/Chicago:20260514T120000
DTSTAMP:20260421T082105
CREATED:20260311T145232Z
LAST-MODIFIED:20260311T145232Z
UID:10405-1778752800-1778760000@cacsckansas.org
SUMMARY:Connections Matter
DESCRIPTION:Every day connections are more important than we ever believed. Science tells us that relationships have the power to shape our brains. Relationships help us learn better\, work better\, parent better. When we experience tough times\, relationships help us heal. With each connection\, we develop a healthier\, stronger community. Connections Matter is a training designed to engage community members in building caring connections to improve resiliency\, prevent childhood trauma\, and understand how our interactions with others can support those who have experienced trauma. Connections Matter explores how the connections we make in life profoundly impact our brain’s ability to grow and our own abilities to cope and thrive. This is done through a training curriculum that educates participants on adverse childhood experiences\, trauma\, brain development and resilience. Connections Matter ultimately strives to promote the building of more resilient\, compassionate\, and trauma-informed communities – thus allowing all children and individuals to succeed. This training is pre-approved for 2.0 KDHE child care licensing hours. \nCEUs: This training is approved by KDHE for child care licensing hours. BSRB approved. \nSign up here: https://us02web.zoom.us/meeting/register/FqVQykdfQIGXj981m_ZWAQ
URL:https://cacsckansas.org/event/connections-matter-20/
LOCATION:zoom
END:VEVENT
BEGIN:VEVENT
DTSTART;TZID=America/Chicago:20260520T100000
DTEND;TZID=America/Chicago:20260520T120000
DTSTAMP:20260421T082105
CREATED:20260311T145908Z
LAST-MODIFIED:20260311T145908Z
UID:10423-1779271200-1779278400@cacsckansas.org
SUMMARY:Darkness to Light Stewards of Children
DESCRIPTION:Stewards of Children® is an evidence-based prevention training that teaches adults how to prevent\, recognize\, and react responsibly to child sexual abuse. We know that when adults are informed\, they take steps to protect children from sexual abuse. During the award-winning Steward of Children prevention training\, you will hear from survivors who lived through child sexual abuse\, experienced its immediate and long-term effects\, and ultimately were able to find healing. You will hear from experts who work with children and families and confront abuse on a daily basis. Lastly\, you will find concrete steps that you can take to protect the children in your life.  Stewards of Children is the flagship prevention program by Darkness to Light (D2L). \nCEUs: Approved nationally/KDHE Childcare Licensing approved hours. BSRB approved. \nTarget Audience: Parents\, youth-serving organizations and educators that wish to train staff and volunteers in child sexual abuse prevention and/or enhance child protection policies and procedures\, anyone who wants to make a difference in their community by educating adults about the protection of children. \nSign up here: https://us02web.zoom.us/meeting/register/z_g2hThKSr6yRglhl3we_g
URL:https://cacsckansas.org/event/darkness-to-light-stewards-of-children-15/
LOCATION:KS
END:VEVENT
BEGIN:VEVENT
DTSTART;TZID=America/Chicago:20260526T100000
DTEND;TZID=America/Chicago:20260526T120000
DTSTAMP:20260421T082105
CREATED:20260311T150216Z
LAST-MODIFIED:20260311T150216Z
UID:10432-1779789600-1779796800@cacsckansas.org
SUMMARY:Creating Resilience
DESCRIPTION:Resilience is often thought of as the ability to bounce back from a tough time. In this training we’re going to look at resilience as bouncing forward. Parents frequently model resilience for their children. Our actions – no matter how small – can have a big impact on our children and ultimately\, on our communities. This training will discuss our responses to stress\, the impacts stress can have\, and ways we can promote positive childhood experiences and create resilience through connection \nCEUs: This training is approved by KDHE for child care licensing hours. BSRB approved. \nSign up here: https://us02web.zoom.us/meeting/register/Ll3vKk95TgmtPzBs6mTglA
URL:https://cacsckansas.org/event/creating-resilience-8/
LOCATION:zoom
END:VEVENT
BEGIN:VEVENT
DTSTART;TZID=America/Chicago:20260610T140000
DTEND;TZID=America/Chicago:20260610T160000
DTSTAMP:20260421T082105
CREATED:20260311T150004Z
LAST-MODIFIED:20260311T150004Z
UID:10426-1781100000-1781107200@cacsckansas.org
SUMMARY:Darkness to Light Stewards of Children
DESCRIPTION:Stewards of Children® is an evidence-based prevention training that teaches adults how to prevent\, recognize\, and react responsibly to child sexual abuse. We know that when adults are informed\, they take steps to protect children from sexual abuse. During the award-winning Steward of Children prevention training\, you will hear from survivors who lived through child sexual abuse\, experienced its immediate and long-term effects\, and ultimately were able to find healing. You will hear from experts who work with children and families and confront abuse on a daily basis. Lastly\, you will find concrete steps that you can take to protect the children in your life.  Stewards of Children is the flagship prevention program by Darkness to Light (D2L). \nCEUs: Approved nationally/KDHE Childcare Licensing approved hours. BSRB approved. \nTarget Audience: Parents\, youth-serving organizations and educators that wish to train staff and volunteers in child sexual abuse prevention and/or enhance child protection policies and procedures\, anyone who wants to make a difference in their community by educating adults about the protection of children. \nSign up here: https://us02web.zoom.us/meeting/register/XH-wdMQ9TZyERdn9iRqSKQ
URL:https://cacsckansas.org/event/darkness-to-light-stewards-of-children-16/
LOCATION:zoom
END:VEVENT
BEGIN:VEVENT
DTSTART;TZID=America/Chicago:20260611T150000
DTEND;TZID=America/Chicago:20260611T170000
DTSTAMP:20260421T082105
CREATED:20260311T145318Z
LAST-MODIFIED:20260311T145318Z
UID:10408-1781190000-1781197200@cacsckansas.org
SUMMARY:Connections Matter
DESCRIPTION:Every day connections are more important than we ever believed. Science tells us that relationships have the power to shape our brains. Relationships help us learn better\, work better\, parent better. When we experience tough times\, relationships help us heal. With each connection\, we develop a healthier\, stronger community. Connections Matter is a training designed to engage community members in building caring connections to improve resiliency\, prevent childhood trauma\, and understand how our interactions with others can support those who have experienced trauma. Connections Matter explores how the connections we make in life profoundly impact our brain’s ability to grow and our own abilities to cope and thrive. This is done through a training curriculum that educates participants on adverse childhood experiences\, trauma\, brain development and resilience. Connections Matter ultimately strives to promote the building of more resilient\, compassionate\, and trauma-informed communities – thus allowing all children and individuals to succeed. This training is pre-approved for 2.0 KDHE child care licensing hours. \nCEUs: This training is approved by KDHE for child care licensing hours. BSRB approved. \nSign up here: https://us02web.zoom.us/meeting/register/C_DXI6NBR-6Cwa5TKoUpTw
URL:https://cacsckansas.org/event/connections-matter-21/
LOCATION:zoom
END:VEVENT
BEGIN:VEVENT
DTSTART;TZID=America/Chicago:20260617T110000
DTEND;TZID=America/Chicago:20260617T120000
DTSTAMP:20260421T082105
CREATED:20260311T150603Z
LAST-MODIFIED:20260311T150603Z
UID:10444-1781694000-1781697600@cacsckansas.org
SUMMARY:Talking With Children About Safety From Sexual Abuse
DESCRIPTION:Talking about personal safety and sex creates a protective bond between parent and child\, increases confidence for both\, and instills knowledge that makes children and teens much less vulnerable. Building on the education provided in Stewards of Children®\, Darkness to Light’s evidence-informed training on preventing\, recognizing\, and reacting responsibly to child sexual abuse\, you will learn how to talk with and listen to children about sexual abuse and personal safety. It is highly recommended that participants complete Stewards of Children® prior to taking the course. \nSign up here: https://us02web.zoom.us/meeting/register/l5Thu1EHT-6eaJZ07u8mjA
URL:https://cacsckansas.org/event/talking-with-children-about-safety-from-sexual-abuse-15/
LOCATION:zoom
END:VEVENT
BEGIN:VEVENT
DTSTART;TZID=America/Chicago:20260618T150000
DTEND;TZID=America/Chicago:20260618T170000
DTSTAMP:20260421T082105
CREATED:20260311T145658Z
LAST-MODIFIED:20260311T145658Z
UID:10417-1781794800-1781802000@cacsckansas.org
SUMMARY:Internet Safety
DESCRIPTION:Parents\, caregivers and educators remain the first line of defense in protecting children against the potential dangers lurking online.  This presentation is designed to educate\, equip and empower adults with the knowledge and resources needed to help protect children from online dangers including predators\, cyber bullies and threats related to gaming\, social networking and mobile devices. Information will be provided from NetSmartz & ConnectSafely. \nCEUs: This training is approved by KDHE for child care licensing hours. BSRB approved. \nSign up here: https://us02web.zoom.us/meeting/register/LUvYO2DyQEqDC-BR7N315Q
URL:https://cacsckansas.org/event/internet-safety-9/
LOCATION:zoom
END:VEVENT
BEGIN:VEVENT
DTSTART;TZID=America/Chicago:20260623T130000
DTEND;TZID=America/Chicago:20260623T150000
DTSTAMP:20260421T082105
CREATED:20260311T145018Z
LAST-MODIFIED:20260311T145018Z
UID:10401-1782219600-1782226800@cacsckansas.org
SUMMARY:ACES and Resilience
DESCRIPTION:Extremely stressful experiences in childhood can alter brain development and have lifelong effects on health and behavior. This one-hour documentary\, “Resilience: The Biology of Stress & The Science of Hope” examines into the science of ACEs (Adverse Childhood Experiences) and the birth of a new movement to treat and prevent Toxic Stress. The film is followed by a facilitated discussion to enhance understanding of childhood trauma. \nCEUs: This training is approved by KDHE for 2 child care licensing hours. BSRB approved. \nTarget Audience: Parents\, foster parents and other adults\, especially those that coach\, counsel\, or otherwise work with children or provide youth-based services. This includes but is not limited to educators\, medical staff\, law enforcement\, victim advocates\, therapists\, childcare providers\, youth sports personnel and youth group leaders. \nSign up here: https://us02web.zoom.us/meeting/register/Fgz8wmEGRJCqm84fHD3FvA
URL:https://cacsckansas.org/event/aces-and-resilience-2/
LOCATION:zoom
END:VEVENT
BEGIN:VEVENT
DTSTART;TZID=America/Chicago:20260625T150000
DTEND;TZID=America/Chicago:20260625T170000
DTSTAMP:20260421T082105
CREATED:20260311T150303Z
LAST-MODIFIED:20260311T150303Z
UID:10435-1782399600-1782406800@cacsckansas.org
SUMMARY:Creating Resilience
DESCRIPTION:Resilience is often thought of as the ability to bounce back from a tough time. In this training we’re going to look at resilience as bouncing forward. Parents frequently model resilience for their children. Our actions – no matter how small – can have a big impact on our children and ultimately\, on our communities. This training will discuss our responses to stress\, the impacts stress can have\, and ways we can promote positive childhood experiences and create resilience through connection \nCEUs: This training is approved by KDHE for child care licensing hours. BSRB approved. \nSign up here: https://us02web.zoom.us/meeting/register/qa-BYrMSQl2t0I6gHTAA6A
URL:https://cacsckansas.org/event/creating-resilience-9/
LOCATION:KS
END:VEVENT
END:VCALENDAR