BEGIN:VCALENDAR
VERSION:2.0
PRODID:-//Child Advocacy Center of Sedgwick County - ECPv6.15.20//NONSGML v1.0//EN
CALSCALE:GREGORIAN
METHOD:PUBLISH
X-ORIGINAL-URL:https://cacsckansas.org
X-WR-CALDESC:Events for Child Advocacy Center of Sedgwick County
REFRESH-INTERVAL;VALUE=DURATION:PT1H
X-Robots-Tag:noindex
X-PUBLISHED-TTL:PT1H
BEGIN:VTIMEZONE
TZID:America/Chicago
BEGIN:DAYLIGHT
TZOFFSETFROM:-0600
TZOFFSETTO:-0500
TZNAME:CDT
DTSTART:20250309T080000
END:DAYLIGHT
BEGIN:STANDARD
TZOFFSETFROM:-0500
TZOFFSETTO:-0600
TZNAME:CST
DTSTART:20251102T070000
END:STANDARD
BEGIN:DAYLIGHT
TZOFFSETFROM:-0600
TZOFFSETTO:-0500
TZNAME:CDT
DTSTART:20260308T080000
END:DAYLIGHT
BEGIN:STANDARD
TZOFFSETFROM:-0500
TZOFFSETTO:-0600
TZNAME:CST
DTSTART:20261101T070000
END:STANDARD
BEGIN:DAYLIGHT
TZOFFSETFROM:-0600
TZOFFSETTO:-0500
TZNAME:CDT
DTSTART:20270314T080000
END:DAYLIGHT
BEGIN:STANDARD
TZOFFSETFROM:-0500
TZOFFSETTO:-0600
TZNAME:CST
DTSTART:20271107T070000
END:STANDARD
END:VTIMEZONE
BEGIN:VEVENT
DTSTART;TZID=America/Chicago:20260617T110000
DTEND;TZID=America/Chicago:20260617T120000
DTSTAMP:20260425T104314
CREATED:20260311T150603Z
LAST-MODIFIED:20260311T150603Z
UID:10444-1781694000-1781697600@cacsckansas.org
SUMMARY:Talking With Children About Safety From Sexual Abuse
DESCRIPTION:Talking about personal safety and sex creates a protective bond between parent and child\, increases confidence for both\, and instills knowledge that makes children and teens much less vulnerable. Building on the education provided in Stewards of Children®\, Darkness to Light’s evidence-informed training on preventing\, recognizing\, and reacting responsibly to child sexual abuse\, you will learn how to talk with and listen to children about sexual abuse and personal safety. It is highly recommended that participants complete Stewards of Children® prior to taking the course. \nSign up here: https://us02web.zoom.us/meeting/register/l5Thu1EHT-6eaJZ07u8mjA
URL:https://cacsckansas.org/event/talking-with-children-about-safety-from-sexual-abuse-15/
LOCATION:zoom
END:VEVENT
END:VCALENDAR