BEGIN:VCALENDAR
VERSION:2.0
PRODID:-//Child Advocacy Center of Sedgwick County - ECPv6.15.20//NONSGML v1.0//EN
CALSCALE:GREGORIAN
METHOD:PUBLISH
X-WR-CALNAME:Child Advocacy Center of Sedgwick County
X-ORIGINAL-URL:https://cacsckansas.org
X-WR-CALDESC:Events for Child Advocacy Center of Sedgwick County
REFRESH-INTERVAL;VALUE=DURATION:PT1H
X-Robots-Tag:noindex
X-PUBLISHED-TTL:PT1H
BEGIN:VTIMEZONE
TZID:America/Chicago
BEGIN:DAYLIGHT
TZOFFSETFROM:-0600
TZOFFSETTO:-0500
TZNAME:CDT
DTSTART:20250309T080000
END:DAYLIGHT
BEGIN:STANDARD
TZOFFSETFROM:-0500
TZOFFSETTO:-0600
TZNAME:CST
DTSTART:20251102T070000
END:STANDARD
BEGIN:DAYLIGHT
TZOFFSETFROM:-0600
TZOFFSETTO:-0500
TZNAME:CDT
DTSTART:20260308T080000
END:DAYLIGHT
BEGIN:STANDARD
TZOFFSETFROM:-0500
TZOFFSETTO:-0600
TZNAME:CST
DTSTART:20261101T070000
END:STANDARD
BEGIN:DAYLIGHT
TZOFFSETFROM:-0600
TZOFFSETTO:-0500
TZNAME:CDT
DTSTART:20270314T080000
END:DAYLIGHT
BEGIN:STANDARD
TZOFFSETFROM:-0500
TZOFFSETTO:-0600
TZNAME:CST
DTSTART:20271107T070000
END:STANDARD
END:VTIMEZONE
BEGIN:VEVENT
DTSTART;TZID=America/Chicago:20260526T100000
DTEND;TZID=America/Chicago:20260526T120000
DTSTAMP:20260425T053546
CREATED:20260311T150216Z
LAST-MODIFIED:20260311T150216Z
UID:10432-1779789600-1779796800@cacsckansas.org
SUMMARY:Creating Resilience
DESCRIPTION:Resilience is often thought of as the ability to bounce back from a tough time. In this training we’re going to look at resilience as bouncing forward. Parents frequently model resilience for their children. Our actions – no matter how small – can have a big impact on our children and ultimately\, on our communities. This training will discuss our responses to stress\, the impacts stress can have\, and ways we can promote positive childhood experiences and create resilience through connection \nCEUs: This training is approved by KDHE for child care licensing hours. BSRB approved. \nSign up here: https://us02web.zoom.us/meeting/register/Ll3vKk95TgmtPzBs6mTglA
URL:https://cacsckansas.org/event/creating-resilience-8/
LOCATION:zoom
END:VEVENT
END:VCALENDAR