BEGIN:VCALENDAR
VERSION:2.0
PRODID:-//Child Advocacy Center of Sedgwick County - ECPv6.15.20//NONSGML v1.0//EN
CALSCALE:GREGORIAN
METHOD:PUBLISH
X-ORIGINAL-URL:https://cacsckansas.org
X-WR-CALDESC:Events for Child Advocacy Center of Sedgwick County
REFRESH-INTERVAL;VALUE=DURATION:PT1H
X-Robots-Tag:noindex
X-PUBLISHED-TTL:PT1H
BEGIN:VTIMEZONE
TZID:America/Chicago
BEGIN:DAYLIGHT
TZOFFSETFROM:-0600
TZOFFSETTO:-0500
TZNAME:CDT
DTSTART:20250309T080000
END:DAYLIGHT
BEGIN:STANDARD
TZOFFSETFROM:-0500
TZOFFSETTO:-0600
TZNAME:CST
DTSTART:20251102T070000
END:STANDARD
BEGIN:DAYLIGHT
TZOFFSETFROM:-0600
TZOFFSETTO:-0500
TZNAME:CDT
DTSTART:20260308T080000
END:DAYLIGHT
BEGIN:STANDARD
TZOFFSETFROM:-0500
TZOFFSETTO:-0600
TZNAME:CST
DTSTART:20261101T070000
END:STANDARD
BEGIN:DAYLIGHT
TZOFFSETFROM:-0600
TZOFFSETTO:-0500
TZNAME:CDT
DTSTART:20270314T080000
END:DAYLIGHT
BEGIN:STANDARD
TZOFFSETFROM:-0500
TZOFFSETTO:-0600
TZNAME:CST
DTSTART:20271107T070000
END:STANDARD
END:VTIMEZONE
BEGIN:VEVENT
DTSTART;TZID=America/Chicago:20260512T150000
DTEND;TZID=America/Chicago:20260512T170000
DTSTAMP:20260423T071637
CREATED:20260311T144923Z
LAST-MODIFIED:20260311T144923Z
UID:10398-1778598000-1778605200@cacsckansas.org
SUMMARY:ACES and Resilience
DESCRIPTION:Extremely stressful experiences in childhood can alter brain development and have lifelong effects on health and behavior. This one-hour documentary\, “Resilience: The Biology of Stress & The Science of Hope” examines into the science of ACEs (Adverse Childhood Experiences) and the birth of a new movement to treat and prevent Toxic Stress. The film is followed by a facilitated discussion to enhance understanding of childhood trauma. \nCEUs: This training is approved by KDHE for 2 child care licensing hours. BSRB approved. \nTarget Audience: Parents\, foster parents and other adults\, especially those that coach\, counsel\, or otherwise work with children or provide youth-based services. This includes but is not limited to educators\, medical staff\, law enforcement\, victim advocates\, therapists\, childcare providers\, youth sports personnel and youth group leaders. \nSign Up Here: https://us02web.zoom.us/meeting/register/0qpyipj1SxS24bUFC9e3og
URL:https://cacsckansas.org/event/aces-and-resilience/
LOCATION:zoom
END:VEVENT
END:VCALENDAR